BEGIN:VCALENDAR
VERSION:2.0
PRODID:Sopa da Panela - almoço convivio - Showcooking\, São Pedro da Gafa
 nhoeira
X-WR-CALNAME:Sopa da Panela - almoço convivio - Showcooking\, São Pedro d
 a Gafanhoeira
X-WR-TIMEZONE:Europe/Lisbon
X-PUBLISHED-TTL:P1W
BEGIN:VTIMEZONE
TZID:Europe/Lisbon
X-LIC-LOCATION:Europe/Lisbon
END:VTIMEZONE
BEGIN:VEVENT
UID:69e757ca4607a
DTSTART;VALUE=DATE:20220409
SEQUENCE:0
TRANSP:OPAQUE
DTEND;VALUE=DATE:20220410
SUMMARY:Sopa da Panela - almoço convivio - Showcooking\, São Pedro da Gaf
 anhoeira
CLASS:PUBLIC
DESCRIPTION:Tradicional Almoço Convivio\, showcooking da Sopa da Panela\, 
 promovido pela a União de Freguesias de Gafanhoeira(S.Pedro) e Sabugueiro
 .Dia 09 de Abril com a participação do NAK\, nucleo de amigos do King\, 
 torneio de cartas. Com a presença do cante de Vendas Novas.Inscriçoes at
 é 7/4/2022\, na junta ou através do site.
X-MICROSOFT-CDO-ALLDAYEVENT:TRUE
DTSTAMP:20260421T105610Z
END:VEVENT
END:VCALENDAR